BEGIN:VCALENDAR
VERSION:2.0
PRODID:-//EMWAY - ECPv6.5.0//NONSGML v1.0//EN
CALSCALE:GREGORIAN
METHOD:PUBLISH
X-ORIGINAL-URL:https://emway.ma
X-WR-CALDESC:évènements pour EMWAY
REFRESH-INTERVAL;VALUE=DURATION:PT1H
X-Robots-Tag:noindex
X-PUBLISHED-TTL:PT1H
BEGIN:VTIMEZONE
TZID:Europe/Paris
BEGIN:DAYLIGHT
TZOFFSETFROM:+0100
TZOFFSETTO:+0200
TZNAME:CEST
DTSTART:20240331T010000
END:DAYLIGHT
BEGIN:STANDARD
TZOFFSETFROM:+0200
TZOFFSETTO:+0100
TZNAME:CET
DTSTART:20241027T010000
END:STANDARD
END:VTIMEZONE
BEGIN:VEVENT
DTSTART;VALUE=DATE:20240503
DTEND;VALUE=DATE:20240506
DTSTAMP:20260422T060634
CREATED:20240521T131732Z
LAST-MODIFIED:20240521T131732Z
UID:2608-1714694400-1714953599@emway.ma
SUMMARY:PNL - Cycle Maître-Praticien - Module 1
DESCRIPTION:
URL:https://emway.ma/event/pnl-cycle-maitre-praticien-module-1/
LOCATION:Centre EMWAY\, Complexe le Yacht\, Imm A\, 2ème étage\, N°65; Bd de la corniche\, Casablanca\, Morocco
CATEGORIES:Formations PNL
ORGANIZER;CN="Centre EMWAY":MAILTO:info@emway.ma
END:VEVENT
BEGIN:VEVENT
DTSTART;VALUE=DATE:20240524
DTEND;VALUE=DATE:20240527
DTSTAMP:20260422T060634
CREATED:20240503T000009Z
LAST-MODIFIED:20240521T131208Z
UID:2157-1716508800-1716767999@emway.ma
SUMMARY:PNL - Cycle Maître-Praticien - Module 2
DESCRIPTION:
URL:https://emway.ma/event/pnl-cycle-maitre-praticien-module-2/
LOCATION:Centre EMWAY\, Complexe le Yacht\, Imm A\, 2ème étage\, N°65; Bd de la corniche\, Casablanca\, Morocco
CATEGORIES:Formations PNL
ORGANIZER;CN="Centre EMWAY":MAILTO:info@emway.ma
END:VEVENT
END:VCALENDAR